BEGIN:VCALENDAR
VERSION:2.0
PRODID:-//Phoenix Dispensary - Daily Deals | ANC Dispensary - ECPv6.2.8.2//NONSGML v1.0//EN
CALSCALE:GREGORIAN
METHOD:PUBLISH
X-WR-CALNAME:Phoenix Dispensary - Daily Deals | ANC Dispensary
X-ORIGINAL-URL:https://ancdispensary.com
X-WR-CALDESC:Events for Phoenix Dispensary - Daily Deals | ANC Dispensary
REFRESH-INTERVAL;VALUE=DURATION:PT1H
X-Robots-Tag:noindex
X-PUBLISHED-TTL:PT1H
BEGIN:VTIMEZONE
TZID:America/Phoenix
BEGIN:STANDARD
TZOFFSETFROM:-0700
TZOFFSETTO:-0700
TZNAME:MST
DTSTART:20260101T000000
END:STANDARD
END:VTIMEZONE
BEGIN:VEVENT
DTSTART;VALUE=DATE:20260508
DTEND;VALUE=DATE:20260509
DTSTAMP:20260425T065848
CREATED:20260423T162524Z
LAST-MODIFIED:20260425T135521Z
UID:281461-1778198400-1778284799@ancdispensary.com
SUMMARY:Verdant
DESCRIPTION:Save 30% on All Verdant Rosin.
URL:https://ancdispensary.com/events/verdant-21/
LOCATION:Arizona Natural Concepts Marijuana Dispensary\, 1039 E Carefree Hwy\, Phoenix\, AZ\, United States
END:VEVENT
BEGIN:VEVENT
DTSTART;VALUE=DATE:20260508
DTEND;VALUE=DATE:20260509
DTSTAMP:20260425T065848
CREATED:20260423T195548Z
LAST-MODIFIED:20260425T135522Z
UID:281485-1778198400-1778284799@ancdispensary.com
SUMMARY:Savvy
DESCRIPTION:Buy One Get One FREE All Savvy Products.
URL:https://ancdispensary.com/events/savvy-9/
LOCATION:Arizona Natural Concepts Marijuana Dispensary\, 1039 E Carefree Hwy\, Phoenix\, AZ\, United States
END:VEVENT
BEGIN:VEVENT
DTSTART;VALUE=DATE:20260508
DTEND;VALUE=DATE:20260509
DTSTAMP:20260425T065848
CREATED:20260423T195548Z
LAST-MODIFIED:20260425T135520Z
UID:281488-1778198400-1778284799@ancdispensary.com
SUMMARY:Swift Lifts
DESCRIPTION:Buy One Get One FREE All Swift Lifts.
URL:https://ancdispensary.com/events/swift-lifts-3/
LOCATION:Arizona Natural Concepts Marijuana Dispensary\, 1039 E Carefree Hwy\, Phoenix\, AZ\, United States
END:VEVENT
BEGIN:VEVENT
DTSTART;VALUE=DATE:20260508
DTEND;VALUE=DATE:20260509
DTSTAMP:20260425T065848
CREATED:20260423T195549Z
LAST-MODIFIED:20260425T135523Z
UID:281489-1778198400-1778284799@ancdispensary.com
SUMMARY:Pixils & Potpots
DESCRIPTION:Buy One Get One FREE All Pixils & Potpots Edibles.
URL:https://ancdispensary.com/events/pixils-potpots-9/
LOCATION:Arizona Natural Concepts Marijuana Dispensary\, 1039 E Carefree Hwy\, Phoenix\, AZ\, United States
END:VEVENT
BEGIN:VEVENT
DTSTART;VALUE=DATE:20260509
DTEND;VALUE=DATE:20260510
DTSTAMP:20260425T065848
CREATED:20260423T195548Z
LAST-MODIFIED:20260425T135521Z
UID:281487-1778284800-1778371199@ancdispensary.com
SUMMARY:Vital
DESCRIPTION:Buy One Get One FREE All Vital Products.
URL:https://ancdispensary.com/events/vital-9/
LOCATION:Arizona Natural Concepts Marijuana Dispensary\, 1039 E Carefree Hwy\, Phoenix\, AZ\, United States
END:VEVENT
BEGIN:VEVENT
DTSTART;VALUE=DATE:20260510
DTEND;VALUE=DATE:20260511
DTSTAMP:20260425T065848
CREATED:20260423T195549Z
LAST-MODIFIED:20260425T135523Z
UID:281491-1778371200-1778457599@ancdispensary.com
SUMMARY:Happy Mother's Day!
DESCRIPTION:FREE 1g ANC Joint With Purchase for ALL Moms!
URL:https://ancdispensary.com/events/happy-mothers-day/
LOCATION:Arizona Natural Concepts Marijuana Dispensary\, 1039 E Carefree Hwy\, Phoenix\, AZ\, United States
END:VEVENT
BEGIN:VEVENT
DTSTART;VALUE=DATE:20260510
DTEND;VALUE=DATE:20260511
DTSTAMP:20260425T065848
CREATED:20260423T195550Z
LAST-MODIFIED:20260425T135523Z
UID:281492-1778371200-1778457599@ancdispensary.com
SUMMARY:DIME
DESCRIPTION:Save 30% on ALL Dime Carts.
URL:https://ancdispensary.com/events/dime-5/
LOCATION:Arizona Natural Concepts Marijuana Dispensary\, 1039 E Carefree Hwy\, Phoenix\, AZ\, United States
END:VEVENT
BEGIN:VEVENT
DTSTART;VALUE=DATE:20260512
DTEND;VALUE=DATE:20260513
DTSTAMP:20260425T065848
CREATED:20260423T195550Z
LAST-MODIFIED:20260425T135524Z
UID:281493-1778544000-1778630399@ancdispensary.com
SUMMARY:YG
DESCRIPTION:Save 30% on ALL YG Edibles.
URL:https://ancdispensary.com/events/yg-6/
LOCATION:Arizona Natural Concepts Marijuana Dispensary\, 1039 E Carefree Hwy\, Phoenix\, AZ\, United States
END:VEVENT
BEGIN:VEVENT
DTSTART;VALUE=DATE:20260513
DTEND;VALUE=DATE:20260514
DTSTAMP:20260425T065848
CREATED:20260423T195550Z
LAST-MODIFIED:20260425T135524Z
UID:281494-1778630400-1778716799@ancdispensary.com
SUMMARY:Birdies
DESCRIPTION:Buy One Get One FREE All Birdies Joints.
URL:https://ancdispensary.com/events/birdies-7/
LOCATION:Arizona Natural Concepts Marijuana Dispensary\, 1039 E Carefree Hwy\, Phoenix\, AZ\, United States
END:VEVENT
BEGIN:VEVENT
DTSTART;VALUE=DATE:20260515
DTEND;VALUE=DATE:20260516
DTSTAMP:20260425T065848
CREATED:20260423T162525Z
LAST-MODIFIED:20260425T135525Z
UID:281463-1778803200-1778889599@ancdispensary.com
SUMMARY:Verdant
DESCRIPTION:Save 30% on All Verdant Rosin.
URL:https://ancdispensary.com/events/verdant-22/
LOCATION:Arizona Natural Concepts Marijuana Dispensary\, 1039 E Carefree Hwy\, Phoenix\, AZ\, United States
END:VEVENT
BEGIN:VEVENT
DTSTART;VALUE=DATE:20260516
DTEND;VALUE=DATE:20260517
DTSTAMP:20260425T065848
CREATED:20260423T162524Z
LAST-MODIFIED:20260425T135525Z
UID:281462-1778889600-1778975999@ancdispensary.com
SUMMARY:WZRD
DESCRIPTION:Buy One Get One FREE All WZRD Vapes.
URL:https://ancdispensary.com/events/wzrd-10/
LOCATION:Arizona Natural Concepts Marijuana Dispensary\, 1039 E Carefree Hwy\, Phoenix\, AZ\, United States
END:VEVENT
BEGIN:VEVENT
DTSTART;VALUE=DATE:20260516
DTEND;VALUE=DATE:20260517
DTSTAMP:20260425T065848
CREATED:20260423T162525Z
LAST-MODIFIED:20260425T135524Z
UID:281464-1778889600-1778975999@ancdispensary.com
SUMMARY:Prism
DESCRIPTION:Buy One Get One FREE All Prism Pouches.
URL:https://ancdispensary.com/events/prism-5/
LOCATION:Arizona Natural Concepts Marijuana Dispensary\, 1039 E Carefree Hwy\, Phoenix\, AZ\, United States
END:VEVENT
BEGIN:VEVENT
DTSTART;VALUE=DATE:20260521
DTEND;VALUE=DATE:20260522
DTSTAMP:20260425T065848
CREATED:20260423T195551Z
LAST-MODIFIED:20260425T135526Z
UID:281495-1779321600-1779407999@ancdispensary.com
SUMMARY:Pure
DESCRIPTION:Save 30% on ALL Pure Gummies.
URL:https://ancdispensary.com/events/pure-10/
LOCATION:Arizona Natural Concepts Marijuana Dispensary\, 1039 E Carefree Hwy\, Phoenix\, AZ\, United States
END:VEVENT
BEGIN:VEVENT
DTSTART;VALUE=DATE:20260521
DTEND;VALUE=DATE:20260522
DTSTAMP:20260425T065848
CREATED:20260423T195552Z
LAST-MODIFIED:20260425T135525Z
UID:281497-1779321600-1779407999@ancdispensary.com
SUMMARY:Tower Station
DESCRIPTION:Buy One Get One FREE All Tower Station Vapes.
URL:https://ancdispensary.com/events/tower-station-10/
LOCATION:Arizona Natural Concepts Marijuana Dispensary\, 1039 E Carefree Hwy\, Phoenix\, AZ\, United States
END:VEVENT
BEGIN:VEVENT
DTSTART;VALUE=DATE:20260522
DTEND;VALUE=DATE:20260523
DTSTAMP:20260425T065848
CREATED:20260423T162525Z
LAST-MODIFIED:20260425T135525Z
UID:281465-1779408000-1779494399@ancdispensary.com
SUMMARY:Verdant
DESCRIPTION:Save 30% on All Verdant Rosin.
URL:https://ancdispensary.com/events/verdant-23/
LOCATION:Arizona Natural Concepts Marijuana Dispensary\, 1039 E Carefree Hwy\, Phoenix\, AZ\, United States
END:VEVENT
BEGIN:VEVENT
DTSTART;VALUE=DATE:20260522
DTEND;VALUE=DATE:20260523
DTSTAMP:20260425T065848
CREATED:20260423T195551Z
LAST-MODIFIED:20260425T135526Z
UID:281496-1779408000-1779494399@ancdispensary.com
SUMMARY:Tipsy Turtle
DESCRIPTION:Buy One Get One FREE All Tipsy Turtle Edibles.
URL:https://ancdispensary.com/events/tipsy-turtle-7/
LOCATION:Arizona Natural Concepts Marijuana Dispensary\, 1039 E Carefree Hwy\, Phoenix\, AZ\, United States
END:VEVENT
BEGIN:VEVENT
DTSTART;VALUE=DATE:20260529
DTEND;VALUE=DATE:20260530
DTSTAMP:20260425T065848
CREATED:20260423T162525Z
LAST-MODIFIED:20260425T135526Z
UID:281466-1780012800-1780099199@ancdispensary.com
SUMMARY:Verdant
DESCRIPTION:Save 30% on All Verdant Rosin.
URL:https://ancdispensary.com/events/verdant-24/
LOCATION:Arizona Natural Concepts Marijuana Dispensary\, 1039 E Carefree Hwy\, Phoenix\, AZ\, United States
END:VEVENT
END:VCALENDAR